BEGIN:VCALENDAR
VERSION:2.0
PRODID:icalendar-ruby
CALSCALE:GREGORIAN
METHOD:PUBLISH
BEGIN:VEVENT
DTSTAMP:20260420T102555Z
UID:10-3209436@sslc.org
DTSTART:20261026T163000Z
DTEND:20261026T173000Z
CLASS:PUBLIC
CREATED:20260420T012840
DESCRIPTION:
LAST-MODIFIED:20260420T012840
LOCATION:Fellowship Hall
SUMMARY:AA Meeting
URL;VALUE=URI:https://sslc.org/events/aa-meeting--10/2026-10-26
ATTACH;FILENAME=AA.jpg;FMTTYPE=image/jpeg:https://dq5pwpg1q8ru0.cloudfront.
 net/2020/10/27/12/24/18/ac0f0cf3-b52a-4747-813d-3c9b4f71534e/AA.jpg
END:VEVENT
END:VCALENDAR
